BEGIN:VCALENDAR
VERSION:2.0
PRODID:-//Squarespace Inc/Squarespace 6//v6//EN
BEGIN:VEVENT
UID:59d6dd713e00befc732d957a@squarespace.com
DTSTAMP:20171006T013412Z
DTSTART:20171010T233000Z
DTEND:20171011T013000Z
SUMMARY:Men's Fellowship
END:VEVENT
END:VCALENDAR
