BEGIN:VCALENDAR
VERSION:2.0
PRODID:-//Squarespace Inc/Squarespace 6//v6//EN
BEGIN:VEVENT
UID:59d6dd00017db2586d1ed820@squarespace.com
DTSTAMP:20171006T013257Z
DTSTART:20171010T233000Z
DTEND:20171011T013000Z
SUMMARY:Women's Discussion Group
END:VEVENT
END:VCALENDAR
