BEGIN:VCALENDAR
VERSION:2.0
PRODID:-//Squarespace Inc/Squarespace 6//v6//EN
BEGIN:VEVENT
UID:59d6dd53f09ca4f0c9f325f6@squarespace.com
DTSTAMP:20171006T013329Z
DTSTART:20171026T160000Z
DTEND:20171026T170000Z
SUMMARY:Women's Fellowship
END:VEVENT
END:VCALENDAR
