BEGIN:VCALENDAR
VERSION:2.0
PRODID:-//Squarespace Inc/Squarespace 6//v6//EN
BEGIN:VEVENT
UID:59d6ddca8419c2e141199ac9@squarespace.com
DTSTAMP:20171006T013606Z
DTSTART:20171029T133000Z
DTEND:20171029T150000Z
SUMMARY:St Luke's Patronal Festival
END:VEVENT
END:VCALENDAR
