BEGIN:VCALENDAR
VERSION:2.0
PRODID:-//Squarespace Inc/Squarespace 6//v6//EN
BEGIN:VEVENT
UID:59d6dda12278e7e62a333c7a@squarespace.com
DTSTAMP:20171006T013450Z
DTSTART:20171031T233000Z
DTEND:20171101T013000Z
SUMMARY:Men's Fellowship
END:VEVENT
END:VCALENDAR
