BEGIN:VCALENDAR
VERSION:2.0
PRODID:-//Squarespace Inc/Squarespace 6//v6//EN
BEGIN:VEVENT
UID:59d6de178dd0418b73582065@squarespace.com
DTSTAMP:20171006T013834Z
DTSTART:20171110T150000Z
DTEND:20171112T210000Z
SUMMARY:Women's Discussion Group retreat
GEO:-36.689698;174.751779
LOCATION:Vaughan Park Anglican Retreat Centre\, 1043 Beach Road\, Auckland\
 , Auckland\, 0630\, New Zealand
END:VEVENT
END:VCALENDAR
